BEGIN:VCALENDAR
VERSION:2.0
PRODID:-//Boston Wort Processors - ECPv6.15.11//NONSGML v1.0//EN
CALSCALE:GREGORIAN
METHOD:PUBLISH
X-WR-CALNAME:Boston Wort Processors
X-ORIGINAL-URL:https://wort.org
X-WR-CALDESC:Events for Boston Wort Processors
REFRESH-INTERVAL;VALUE=DURATION:PT1H
X-Robots-Tag:noindex
X-PUBLISHED-TTL:PT1H
BEGIN:VTIMEZONE
TZID:America/New_York
BEGIN:DAYLIGHT
TZOFFSETFROM:-0500
TZOFFSETTO:-0400
TZNAME:EDT
DTSTART:20130310T070000
END:DAYLIGHT
BEGIN:STANDARD
TZOFFSETFROM:-0400
TZOFFSETTO:-0500
TZNAME:EST
DTSTART:20131103T060000
END:STANDARD
BEGIN:DAYLIGHT
TZOFFSETFROM:-0500
TZOFFSETTO:-0400
TZNAME:EDT
DTSTART:20140309T070000
END:DAYLIGHT
BEGIN:STANDARD
TZOFFSETFROM:-0400
TZOFFSETTO:-0500
TZNAME:EST
DTSTART:20141102T060000
END:STANDARD
BEGIN:DAYLIGHT
TZOFFSETFROM:-0500
TZOFFSETTO:-0400
TZNAME:EDT
DTSTART:20150308T070000
END:DAYLIGHT
BEGIN:STANDARD
TZOFFSETFROM:-0400
TZOFFSETTO:-0500
TZNAME:EST
DTSTART:20151101T060000
END:STANDARD
BEGIN:DAYLIGHT
TZOFFSETFROM:-0500
TZOFFSETTO:-0400
TZNAME:EDT
DTSTART:20160313T070000
END:DAYLIGHT
BEGIN:STANDARD
TZOFFSETFROM:-0400
TZOFFSETTO:-0500
TZNAME:EST
DTSTART:20161106T060000
END:STANDARD
END:VTIMEZONE
BEGIN:VEVENT
DTSTART;TZID=America/New_York:20150120T190000
DTEND;TZID=America/New_York:20150120T210000
DTSTAMP:20260423T183700
CREATED:20150115T050937Z
LAST-MODIFIED:20150304T234602Z
UID:340-1421780400-1421787600@wort.org
SUMMARY:January Meeting
DESCRIPTION:At the January meeting\, we’ll be judging this year’s Iron Brewer competition beers\, so bring ’em if you brewed ’em.  Didn’t compete in Iron Brewer?  Bring a favorite homebrew (or two) to share with the club.  We’ll also hold a 15 – 20 minute info session for the Boston Homebrew Competition (May 2\, 2015).  Finally\, we’ll do a quick recap of the 2014 feedback and Steering Committee meeting.
URL:https://wort.org/event/january-meeting/
LOCATION:Unnamed Venue\, East Boston
CATEGORIES:meeting
END:VEVENT
BEGIN:VEVENT
DTSTART;TZID=America/New_York:20150113T190000
DTEND;TZID=America/New_York:20150113T210000
DTSTAMP:20260423T183700
CREATED:20150115T050208Z
LAST-MODIFIED:20150115T050208Z
UID:338-1421175600-1421182800@wort.org
SUMMARY:Steering Committee Meeting
DESCRIPTION:This is your chance to let your voice be heard and help the us determine the club’s direction for the coming year. All ideas are welcome and all club members are welcome to attend the meeting. We’ll make a reservation at CBC to secure a large table\, so if you’d like to attend\, please RSVP HERE. For those unable to attend\, we’ll be sending out a survey prior to the meeting so everyone has an anonymous opportunity to provide feedback.
URL:https://wort.org/event/steering-committee-meeting/
LOCATION:Cambridge Brewing Company\, 1 Kendall Sq.\, Cambridge\, MA\, United States
CATEGORIES:meeting
END:VEVENT
BEGIN:VEVENT
DTSTART;TZID=America/New_York:20141205T180000
DTEND;TZID=America/New_York:20141205T210000
DTSTAMP:20260423T183700
CREATED:20150115T045353Z
LAST-MODIFIED:20150115T045353Z
UID:336-1417802400-1417813200@wort.org
SUMMARY:Holiday Party
DESCRIPTION:Join us for our annual holiday potluck and beer Yankee Swap.  Significant others and kids are welcome to join.  We’d love to get a rough head count\, so please sign up HERE.
URL:https://wort.org/event/holiday-party/
LOCATION:Sam Adams Brewery – Pickwick Pub\, 30 Germania St.\, Boston\, MA\, United States
CATEGORIES:meeting,party
END:VEVENT
BEGIN:VEVENT
DTSTART;TZID=America/New_York:20141112T190000
DTEND;TZID=America/New_York:20141112T210000
DTSTAMP:20260423T183700
CREATED:20140917T195343Z
LAST-MODIFIED:20150304T234643Z
UID:249-1415818800-1415826000@wort.org
SUMMARY:November Meeting 2014
DESCRIPTION:We’re holding our November meeting at Robert’s place in Somerville.  The address will be sent to all active members.  If you are interested in becoming a member and would like to check out a meeting\, please contact us for the address. \nPlease bring snacks and\, as always\, bring beer!
URL:https://wort.org/event/november-meeting2014/
LOCATION:Unnamed Venue\, Somerville
CATEGORIES:meeting
END:VEVENT
BEGIN:VEVENT
DTSTART;VALUE=DATE:20141026
DTEND;VALUE=DATE:20141027
DTSTAMP:20260423T183700
CREATED:20140906T164009Z
LAST-MODIFIED:20140906T164009Z
UID:227-1414281600-1414367999@wort.org
SUMMARY:CiderFest 2014
DESCRIPTION:We’ll be returning to Cider Hill in Amesbury for our annual CiderFest and bulk cider buy.  We’re still finalizing details and hope to send out additional information along with a link to purchase the cider shortly.  
URL:https://wort.org/event/ciderfest-2014/
LOCATION:Cider Hill\, 45 Fern Ave\, Amesbury\, MA\, 01913\, United States
CATEGORIES:festival
END:VEVENT
BEGIN:VEVENT
DTSTART;TZID=America/New_York:20141023T190000
DTEND;TZID=America/New_York:20141023T210000
DTSTAMP:20260423T183700
CREATED:20140906T163559Z
LAST-MODIFIED:20150304T234746Z
UID:225-1414090800-1414098000@wort.org
SUMMARY:October Meeting 2014
DESCRIPTION:Our October meeting will be at 7p on Thursday 10/23 at John’s place in East Boston.  The address will be sent to all active members.  If you are interested in becoming a member and would like to check out a meeting\, please contact us for the address. \nWe’ll be tasting the club Marzen experiment\, so bring ’em if you brewed ’em.  If you didn’t brew\, please bring your favorite Oktoberfest/Fall homebrew. Snacks are also always appreciated.  \n  \n 
URL:https://wort.org/event/october-meeting2014/
LOCATION:Unnamed Venue\, East Boston\, MA\, United States
CATEGORIES:meeting
END:VEVENT
BEGIN:VEVENT
DTSTART;TZID=America/New_York:20141012T090000
DTEND;TZID=America/New_York:20141012T170000
DTSTAMP:20260423T183700
CREATED:20140626T183153Z
LAST-MODIFIED:20140906T162701Z
UID:176-1413104400-1413133200@wort.org
SUMMARY:Iron Brewer 2014
DESCRIPTION:This year’s competition will be held at 9a on Saturday 10/12 at Josh’s place in West Roxbury (address will be sent to active members).\n\nIron Brewer is our annual Iron Chef-esque competition. Everyone pairs up into teams (usually 2 brewers per team).  You arrive with your brewing equipment and\, once everyone is gathered\, we reveal the secret ingredient.  The club provides all ingredients (a few base malts\, some specialty malts\, hops\, water\, yeast\, and the secret ingredient) and you have an hour to create a recipe that showcases the secret ingredient.  Once you settle on your recipe\, it’s time to brew!  Past secret ingredients include dried fruit\, Brettanomyces. and wood.  Basically\, you get to play around with ingredients and walk away with free beer.  Once everyone’s beer has fermented\, we judge the beers at our monthly meeting (probably in November) and determine who’s beer showcases the secret ingredient the best.\n\nIron Brewer is an all-grain competition\, but not to worry if you are not an all grain brewer.  This is a great opportunity to learn!  We’ll make sure you are paired with an experienced all-grain brewer and we’ll have plenty of people around to answer questions.  While I think everyone should compete\, Iron Brewer can also be a fun spectator event.  We’ll fire up the grill and have a homebrew or two during the day.\n\nALLEZ BREWING!\n 
URL:https://wort.org/event/iron-brewer-2014/
LOCATION:Josh’s Place\, West Roxbury
CATEGORIES:competition
END:VEVENT
BEGIN:VEVENT
DTSTART;TZID=America/New_York:20140924T190000
DTEND;TZID=America/New_York:20140924T210000
DTSTAMP:20260423T183700
CREATED:20140906T163057Z
LAST-MODIFIED:20150304T234848Z
UID:223-1411585200-1411592400@wort.org
SUMMARY:September Meeting 2014
DESCRIPTION:Our September meeting will be on Wednesday 9/24 at 7p.  We’ll  be meeting at Bev’s place in Watertown.  The address will be sent to all active members.  If you are interested in becoming a member and would like to check out a meeting\, please contact us for the address. \nPlease bring snacks and\, as always\, bring beer!
URL:https://wort.org/event/september-meeting2014/
LOCATION:Unnamed Venue\, Watertown
CATEGORIES:meeting
END:VEVENT
BEGIN:VEVENT
DTSTART;TZID=America/New_York:20140804T190000
DTEND;TZID=America/New_York:20140804T220000
DTSTAMP:20260423T183700
CREATED:20140730T130729Z
LAST-MODIFIED:20150304T234915Z
UID:187-1407178800-1407189600@wort.org
SUMMARY:August Meeting
DESCRIPTION:Our August meeting will be next Monday (8/4) at 7p at BK’s place.   \nIt’s about a 15 minute walk from the Davis Square T stop and there is some limited streetparking.   \nPlease bring snacks and\, as always\, bring beer!
URL:https://wort.org/event/august-meeting/
LOCATION:Unnamed Venue\, Medford
CATEGORIES:meeting
END:VEVENT
BEGIN:VEVENT
DTSTART;TZID=America/New_York:20140709T190000
DTEND;TZID=America/New_York:20140709T220000
DTSTAMP:20260423T183700
CREATED:20140624T140827Z
LAST-MODIFIED:20140626T183613Z
UID:159-1404932400-1404943200@wort.org
SUMMARY:July Meeting
DESCRIPTION:July Meeting will be @Todd’s \nTheme will be on sour beers and solera process \n…as always\, bring beer
URL:https://wort.org/event/july-meeting/
LOCATION:MA
CATEGORIES:meeting
END:VEVENT
BEGIN:VEVENT
DTSTART;TZID=America/New_York:20140621T170000
DTEND;TZID=America/New_York:20140621T220000
DTSTAMP:20260423T183700
CREATED:20140619T165026Z
LAST-MODIFIED:20150304T234958Z
UID:123-1403370000-1403388000@wort.org
SUMMARY:Pignic
DESCRIPTION:  \nAnnual Wort Pignic \nMore details to come
URL:https://wort.org/event/pignic/
LOCATION:Unnamed Venue\, Somerville\, 02145
END:VEVENT
END:VCALENDAR