BEGIN:VCALENDAR
VERSION:2.0
PRODID:-//Boston Wort Processors - ECPv6.15.11//NONSGML v1.0//EN
CALSCALE:GREGORIAN
METHOD:PUBLISH
X-WR-CALNAME:Boston Wort Processors
X-ORIGINAL-URL:https://wort.org
X-WR-CALDESC:Events for Boston Wort Processors
REFRESH-INTERVAL;VALUE=DURATION:PT1H
X-Robots-Tag:noindex
X-PUBLISHED-TTL:PT1H
BEGIN:VTIMEZONE
TZID:America/New_York
BEGIN:DAYLIGHT
TZOFFSETFROM:-0500
TZOFFSETTO:-0400
TZNAME:EDT
DTSTART:20140309T070000
END:DAYLIGHT
BEGIN:STANDARD
TZOFFSETFROM:-0400
TZOFFSETTO:-0500
TZNAME:EST
DTSTART:20141102T060000
END:STANDARD
BEGIN:DAYLIGHT
TZOFFSETFROM:-0500
TZOFFSETTO:-0400
TZNAME:EDT
DTSTART:20150308T070000
END:DAYLIGHT
BEGIN:STANDARD
TZOFFSETFROM:-0400
TZOFFSETTO:-0500
TZNAME:EST
DTSTART:20151101T060000
END:STANDARD
BEGIN:DAYLIGHT
TZOFFSETFROM:-0500
TZOFFSETTO:-0400
TZNAME:EDT
DTSTART:20160313T070000
END:DAYLIGHT
BEGIN:STANDARD
TZOFFSETFROM:-0400
TZOFFSETTO:-0500
TZNAME:EST
DTSTART:20161106T060000
END:STANDARD
BEGIN:DAYLIGHT
TZOFFSETFROM:-0500
TZOFFSETTO:-0400
TZNAME:EDT
DTSTART:20170312T070000
END:DAYLIGHT
BEGIN:STANDARD
TZOFFSETFROM:-0400
TZOFFSETTO:-0500
TZNAME:EST
DTSTART:20171105T060000
END:STANDARD
BEGIN:DAYLIGHT
TZOFFSETFROM:-0500
TZOFFSETTO:-0400
TZNAME:EDT
DTSTART:20180311T070000
END:DAYLIGHT
BEGIN:STANDARD
TZOFFSETFROM:-0400
TZOFFSETTO:-0500
TZNAME:EST
DTSTART:20181104T060000
END:STANDARD
END:VTIMEZONE
BEGIN:VEVENT
DTSTART;TZID=America/New_York:20170430T110000
DTEND;TZID=America/New_York:20170430T150000
DTSTAMP:20260423T132231
CREATED:20170329T201241Z
LAST-MODIFIED:20170329T201241Z
UID:1053-1493550000-1493564400@wort.org
SUMMARY:BHC Sorting Day
DESCRIPTION:This year sorting day is being hosted  by Lord Hobo Brewery.   We generally pick up the entries for sorting the morning of sorting day and then transport them to the sorting location to do the job. This means we need volunteers for picking up entries from the drop off locations that morning and bringing them to Lord Hobo in Woburn\, and volunteers to assist those folks with sorting the entries at the brewery. \nSign up for these activities on the form.  It has each of our drop off locations listed\, and the time that the drop off location opens the morning of April 30. \nWhat’s great about sorting day?  The primary advantage\, for those of you who have already entered and paid for your entries\, is that you can wait until sorting day to bring your beers\, which means you get an extra week of dry hopping and conditioning before final packaging! To re-iterate a key phrase in that sentence: “already entered and paid for”.
URL:https://wort.org/event/bhc-sorting-day-2017/
LOCATION:Lord Hobo Brewing\, 5 Draper St\, Woburn\, MA\, United States
END:VEVENT
BEGIN:VEVENT
DTSTART;TZID=America/New_York:20170422T170000
DTEND;TZID=America/New_York:20170422T170000
DTSTAMP:20260423T132231
CREATED:20170317T211539Z
LAST-MODIFIED:20170317T211539Z
UID:1034-1492880400-1492880400@wort.org
SUMMARY:BHC Entry Shipping Closes
DESCRIPTION:Entry bottles accepted at the shipping location 03/25/2017 at 12:00 AM\, EDT through 04/22/2017 at 5:00 PM\, EDT. \nShip entries to:\nModern Homebrew Emporium\n2304 Massachusetts Ave\, Cambridge\, MA 02140
URL:https://wort.org/event/bhc-entry-shipping-closes-2017/
LOCATION:MA
CATEGORIES:competition
ORGANIZER;CN="Matthew Dirckx":MAILTO:vicepresident@wort.org
END:VEVENT
BEGIN:VEVENT
DTSTART;TZID=America/New_York:20170422T170000
DTEND;TZID=America/New_York:20170422T170000
DTSTAMP:20260423T132231
CREATED:20170317T211259Z
LAST-MODIFIED:20170317T211259Z
UID:1032-1492880400-1492880400@wort.org
SUMMARY:BHC Entry Dropoff Closes
DESCRIPTION:Entry bottles accepted at drop-off locations 03/25/2017 at 12:00 AM\, EDT through 04/22/2017 at 5:00 PM\, EDT.
URL:https://wort.org/event/bhc-entry-dropoff-closes-2017/
LOCATION:MA
CATEGORIES:competition
ORGANIZER;CN="Matthew Dirckx":MAILTO:vicepresident@wort.org
END:VEVENT
BEGIN:VEVENT
DTSTART;TZID=America/New_York:20170422T170000
DTEND;TZID=America/New_York:20170422T170000
DTSTAMP:20260423T132231
CREATED:20170317T211103Z
LAST-MODIFIED:20170317T211103Z
UID:1030-1492880400-1492880400@wort.org
SUMMARY:BHC Entry Registration Closes
DESCRIPTION:Entry registrations accepted 02/11/2017 at 12:00 AM\, EST through 04/22/2017 at 5:00 PM\, EDT.
URL:https://wort.org/event/bhc-entry-registration-closes-2017/
LOCATION:MA
CATEGORIES:competition
ORGANIZER;CN="Matthew Dirckx":MAILTO:vicepresident@wort.org
END:VEVENT
BEGIN:VEVENT
DTSTART;TZID=America/New_York:20170411T190000
DTEND;TZID=America/New_York:20170411T210000
DTSTAMP:20260423T132231
CREATED:20170328T155020Z
LAST-MODIFIED:20170328T155107Z
UID:1048-1491937200-1491944400@wort.org
SUMMARY:April Meeting
DESCRIPTION:Our April meeting will have Exhibit ‘A’ Brewing hosting the Worts on Tuesday\, Aprill 11 from 7-9 PM.  They are located in Framingham in the original Jack’s Abbey brewery.  The brewery will lead us on a tour to talk shop with samples to follow.
URL:https://wort.org/event/april-meeting-2017/
LOCATION:Exhibit ‘A’ Brewery\, 81 Morton Street\, Framingham\, MA\, 01702\, United States
CATEGORIES:meeting
END:VEVENT
BEGIN:VEVENT
DTSTART;TZID=America/New_York:20170321T180000
DTEND;TZID=America/New_York:20170321T200000
DTSTAMP:20260423T132231
CREATED:20170303T193750Z
LAST-MODIFIED:20170313T154507Z
UID:1006-1490119200-1490126400@wort.org
SUMMARY:March Meeting
DESCRIPTION:Our March meeting has been re-scheduled for Tuesday 03/21 at 6:00 PM.  We’ll be meeting at Aeronaut Brewing in Somerville.  Aeronaut will be giving us a tour and talking shop.
URL:https://wort.org/event/march-meeting-2017/
LOCATION:Aeronaut Brewing\, 14 Tyler St.\, Somerville\, MA\, 02143\, United States
CATEGORIES:meeting
END:VEVENT
BEGIN:VEVENT
DTSTART;TZID=America/New_York:20170311T173000
DTEND;TZID=America/New_York:20170311T220000
DTSTAMP:20260423T132231
CREATED:20170309T191024Z
LAST-MODIFIED:20170309T191024Z
UID:1011-1489253400-1489269600@wort.org
SUMMARY:Slither
DESCRIPTION:It’s time for that dressy slither across Boston\, sipping fancy cocktails and sporting sparkly duds. \nThis year’s Slither theme (by special request) is old-school glitzy hotel bars. The benefits being that they are glamorous by nature\, near each other\, and less likely to be crowded and noisy (as the trendier spots of our last few Slithers have been.) Here is the itinerary! \nSaturday\, March 11 \nThe Bar at the Taj\, 5:30 – 6:30\nhttps://www.thetajboston.com/dining/the-bar/ \nBristol Bar at the Four Seasons\, 6:45 – 7:45\nhttp://www.fourseasons.com/boston/dining/bars/bristol_bar/ \nAvery Bar at the Ritz Carlton\, 8:00 – 9:00\nhttp://www.ritzcarlton.com/en/hotels/boston/dining/avery-bar \nAfterwards\, we will be ready for beer!  Stoddard’s Fine Food & Ale 9:00 – ?\nhttp://www.stoddardsfoodandale.com/menus/craft-beer-bottles-cans/ \nAll of these are close to the Boston Public Garden and Boston Common\, so if you use the T\, get off at Arlington (green line) or Park Street (red line). \nNo need to RSVP- just show up! Note that sometimes people really dig one of the bars and decide to park themselves there for a while and then skip to the last one instead of following the itinerary. Bravo! The schedule is a suggestion\, although do not underestimate the thrill of moving in a well-heeled pack of pub crawlers. \nNOTE: For first time Slitherers\, it’s a Wort winter tradition. A black-tie pub crawl\, if you will – although the places we go are fancy and we tend to drink Scotch neat or classic cocktails (at least at the beginning). Women really do wear long dresses\, even with snow-crunching boots underneath like the last couple of years. Men wear black-tie\, vintage velvet\, smoking jackets\, top hats and gloves- we’ve seen it all. Grab your sweetie and join!
URL:https://wort.org/event/slither-2017/
LOCATION:The Taj\, 15 Arlington Street\, Boston\, MA\, 02116\, United States
END:VEVENT
BEGIN:VEVENT
DTSTART;TZID=America/New_York:20170216T190000
DTEND;TZID=America/New_York:20170216T210000
DTSTAMP:20260423T132231
CREATED:20161212T201701Z
LAST-MODIFIED:20161212T201701Z
UID:957-1487271600-1487278800@wort.org
SUMMARY:February Meeting
DESCRIPTION:Our February meeting has been scheduled for Thursday 02/16. Thanks to Doug\, we’ll be meeting at the Bang & Olufsen shop on Newbury St.  Metered parking is available on both Newbury and Boylston. \nThis month we’ll be holding a club IPA competition\, so get your hops ready! \nPlease see the email list for the specific address\, or if you are not yet a member and would like to attend\, use our contact form to get the location.
URL:https://wort.org/event/february-meeting-2017/
LOCATION:Bang & Olufsen\, 141 Newbury St.\, Boston\, MA\, United States
CATEGORIES:competition,meeting
END:VEVENT
BEGIN:VEVENT
DTSTART;TZID=America/New_York:20170125T200000
DTEND;TZID=America/New_York:20170125T213000
DTSTAMP:20260423T132231
CREATED:20170103T171258Z
LAST-MODIFIED:20170103T171258Z
UID:971-1485374400-1485379800@wort.org
SUMMARY:Steering Meeting
DESCRIPTION:The Steering Committee meeting will be held at BK’s place in Somerville. We will be discussing club priorities and projects for 2017.  Meeting is open to all club members in good standing.  Members can provide anonymous feedback here.
URL:https://wort.org/event/steering-meeting-2017/
LOCATION:BK’s Place\, Somerville\, MA\, United States
CATEGORIES:meeting
END:VEVENT
BEGIN:VEVENT
DTSTART;TZID=America/New_York:20170119T190000
DTEND;TZID=America/New_York:20170119T210000
DTSTAMP:20260423T132231
CREATED:20161212T201036Z
LAST-MODIFIED:20161212T201036Z
UID:954-1484852400-1484859600@wort.org
SUMMARY:January Meeting
DESCRIPTION:Our January meeting has been scheduled for Thursday 01/19. We’ll be at William’s place in Beacon Hill. William’s place is a four block walk from both Arlington St. (Green line) or Charles/MGH (Red line).  There is parking in Boston Common Garage or meter spots on Charles Street or Beacon Street.  If possible\, we strongly encourage everyone to take public transit. \nThe topic for January will be cider and William will have several of his award winning ciders available for tasting. \nPlease see the email list for the specific address\, or if you are not yet a member and would like to attend\, use our contact form to get the location.
URL:https://wort.org/event/january-meeting-2017/
LOCATION:William’s\, Boston\, MA\, 02108\, United States
CATEGORIES:meeting
END:VEVENT
BEGIN:VEVENT
DTSTART;TZID=America/New_York:20161217T170000
DTEND;TZID=America/New_York:20161217T200000
DTSTAMP:20260423T132231
CREATED:20161206T151627Z
LAST-MODIFIED:20161212T185540Z
UID:945-1481994000-1482004800@wort.org
SUMMARY:Holiday Party
DESCRIPTION:Join us for our annual holiday potluck and beer Yankee Swap.  Significant others and kids are welcome to join.  We’d love to get a rough head count\, so please sign up HERE.  This year\, a private tour is being held at 4:00 PM (an hour before the party starts)\, but is only open to those who sign up HERE by 12/9.
URL:https://wort.org/event/holiday-party-2016/
LOCATION:Sam Adams Brewery – Pickwick Pub\, 30 Germania St.\, Boston\, MA\, United States
CATEGORIES:meeting,party
END:VEVENT
BEGIN:VEVENT
DTSTART;TZID=America/New_York:20161115T190000
DTEND;TZID=America/New_York:20161115T210000
DTSTAMP:20260423T132231
CREATED:20161103T154717Z
LAST-MODIFIED:20161103T154717Z
UID:923-1479236400-1479243600@wort.org
SUMMARY:November Meeting
DESCRIPTION:Our November meeting has been scheduled for Tuesday 11/15. We’ll be at Nathan’s place in Somerville. Nathan’s place is a 10 minute walk from the Davis Square T stop. While there is a fair amount of metered parking\, we strongly encourage everyone to take public transit. \nWe will be holding the officer elections during this meeting and encourage anyone who is interested to run for a position! \nPlease see the listserv for the specific address\, or if you are not yet a member and would like to attend\, use our contact form to get the location.
URL:https://wort.org/event/november-meeting-2016/
LOCATION:Nathan’s Place\, Somerville\, MA\, 02144\, United States
CATEGORIES:meeting
END:VEVENT
BEGIN:VEVENT
DTSTART;TZID=America/New_York:20161030T100000
DTEND;TZID=America/New_York:20161030T130000
DTSTAMP:20260423T132231
CREATED:20161103T154108Z
LAST-MODIFIED:20161103T154108Z
UID:920-1477821600-1477832400@wort.org
SUMMARY:Ciderfest
DESCRIPTION:Ciderfest
URL:https://wort.org/event/ciderfest-2016/
LOCATION:MA
END:VEVENT
BEGIN:VEVENT
DTSTART;VALUE=DATE:20161002
DTEND;VALUE=DATE:20161003
DTSTAMP:20260423T132231
CREATED:20160907T013304Z
LAST-MODIFIED:20160907T013304Z
UID:900-1475366400-1475452799@wort.org
SUMMARY:Oktoberfest
DESCRIPTION:
URL:https://wort.org/event/oktoberfest-2016/
LOCATION:Mike Graney\, 147 Sycamore st\, Somerville\, 02145\, United States
CATEGORIES:party
END:VEVENT
BEGIN:VEVENT
DTSTART;TZID=America/New_York:20160929T190000
DTEND;TZID=America/New_York:20160929T210000
DTSTAMP:20260423T132231
CREATED:20160726T153313Z
LAST-MODIFIED:20160907T012426Z
UID:884-1475175600-1475182800@wort.org
SUMMARY:September Meeting
DESCRIPTION:Ever wondered what it’s like to open a brewery?  Our friends at Slumbrew (Somerville Brewing Company) will chat with us about opening a brewery and some of their brewing techniques.
URL:https://wort.org/event/september-meeting-2016/
LOCATION:Slumbrew\, 15 Ward Street\, Somerville\, MA\, 02143\, United States
CATEGORIES:meeting
END:VEVENT
BEGIN:VEVENT
DTSTART;TZID=America/New_York:20160803T190000
DTEND;TZID=America/New_York:20160803T210000
DTSTAMP:20260423T132231
CREATED:20160726T152527Z
LAST-MODIFIED:20160726T152527Z
UID:883-1470250800-1470258000@wort.org
SUMMARY:August Meeting
DESCRIPTION:Meeting will be held at Robert Lindsley’s place in Somerville.  We will be tasting the latest club IPA experiment where 2 barrels of IPA were brewed.  1 barrel received water treatment and 1 barrel did not and each barrel was split into smaller batches for fermentation with several different yeast.  Bring your hoppy homebrews if you have them! \nPlease see the listserv for the specific address\, or if you are not yet a member and would like to attend\, use our contact form to get the location.
URL:https://wort.org/event/august-meeting-2016/
LOCATION:Robert’s Place\, Somerville\, MA\, United States
CATEGORIES:meeting
END:VEVENT
BEGIN:VEVENT
DTSTART;TZID=America/New_York:20160715T190000
DTEND;TZID=America/New_York:20160715T220000
DTSTAMP:20260423T132231
CREATED:20160616T211532Z
LAST-MODIFIED:20160616T211532Z
UID:854-1468609200-1468620000@wort.org
SUMMARY:July 2016 Meeting
DESCRIPTION:The July 2016 meeting will be held at Phil Nerboso’s place in Belmont on Friday\, July 15. Please see the listserv for the specific address\, or if you are looking to join the club\, email one of the officers (or all of us at officers@wort.org) to get the location.
URL:https://wort.org/event/july-2016-meeting/
LOCATION:Phil Nerboso’s Place\, Withheld; please check listserv
CATEGORIES:meeting
END:VEVENT
BEGIN:VEVENT
DTSTART;TZID=America/New_York:20160629T190000
DTEND;TZID=America/New_York:20160629T210000
DTSTAMP:20260423T132231
CREATED:20160606T160555Z
LAST-MODIFIED:20160606T160555Z
UID:848-1467226800-1467234000@wort.org
SUMMARY:June Meeting
DESCRIPTION:The June 2016 meeting will be held in Chelsea at Mystic Brewery.  We will be discussing how the recent IPA club brew went and hearing from Mystic on everything going on with the brewery. \nAs always\, bring beer!  If you have any questions\, get in touch using our contact form.
URL:https://wort.org/event/june-meeting-2016/
LOCATION:Mystic Brewery\, 174 Williams St.\, Chelsea\, MA\, United States
CATEGORIES:meeting
END:VEVENT
BEGIN:VEVENT
DTSTART;TZID=America/New_York:20160626T080000
DTEND;TZID=America/New_York:20160626T160000
DTSTAMP:20260423T132231
CREATED:20160606T161625Z
LAST-MODIFIED:20160606T161715Z
UID:849-1466928000-1466956800@wort.org
SUMMARY:Club IPA
DESCRIPTION:The next club batch is an IPA.  This time we will be varying the yeast to see what effect it has on the beer.  Half of the batch we will also be varying the water chemistry to see how noticeable it is.  The plan is to do the brew as a double batch off Todd & BK’s 1 bbl setup to limit variability.  If you can’t make it\, but would still like to participate you are certainly welcome to do it on your own. \nThis is a members in good standing only event.
URL:https://wort.org/event/club-ipa/
LOCATION:Todd’s Place\, Somerville\, MA\, 02145\, United States
END:VEVENT
BEGIN:VEVENT
DTSTART;TZID=America/New_York:20160524T190000
DTEND;TZID=America/New_York:20160524T210000
DTSTAMP:20260423T132231
CREATED:20160517T011140Z
LAST-MODIFIED:20160517T011140Z
UID:839-1464116400-1464123600@wort.org
SUMMARY:May Meeting
DESCRIPTION:The May 2016 meeting will be held in Medford at Vince’s place (address sent on the mailing list). Meeting topic to be announced\, but probably IPA related. \nAs always\, bring beer!  If you need the address\, get in touch using our contact form.
URL:https://wort.org/event/may-meeting-2016/
LOCATION:Vince’s Place\, Medford\, MA\, 02155\, United States
CATEGORIES:meeting
END:VEVENT
BEGIN:VEVENT
DTSTART;TZID=America/New_York:20160514T083000
DTEND;TZID=America/New_York:20160514T170000
DTSTAMP:20260423T132231
CREATED:20160414T191554Z
LAST-MODIFIED:20160414T191554Z
UID:786-1463214600-1463245200@wort.org
SUMMARY:BHC
DESCRIPTION:Event is not open to the public.  If you would like to judge or steward\, send us a note.
URL:https://wort.org/event/bhc-2016/
LOCATION:Holland and Knight\, 10 St. James Ave.\, 11th Floor\, Boston\, MA\, United States
CATEGORIES:competition
END:VEVENT
BEGIN:VEVENT
DTSTART;TZID=America/New_York:20160430T160000
DTEND;TZID=America/New_York:20160430T200000
DTSTAMP:20260423T132231
CREATED:20160414T192440Z
LAST-MODIFIED:20160414T192440Z
UID:787-1462032000-1462046400@wort.org
SUMMARY:May Day Cask Festival
DESCRIPTION:A small homebrew-only cask event .  This year the festival will be coinciding with a pig roast at the venue! The $35 cover gets you some swine\, a commemorative glass\, access to the venue (complete with sweet\, unobstructed views of the north-facing Boston skyline)\, and the beer!
URL:https://wort.org/event/may-day-cask-festival-2016/
LOCATION:MA
CATEGORIES:festival
END:VEVENT
BEGIN:VEVENT
DTSTART;TZID=America/New_York:20160429T170000
DTEND;TZID=America/New_York:20160429T170000
DTSTAMP:20260423T132231
CREATED:20160414T190913Z
LAST-MODIFIED:20160414T190913Z
UID:785-1461949200-1461949200@wort.org
SUMMARY:BHC - Last Chance to Enter
DESCRIPTION:This is a reminder of the last chance to enter beers into the 2016 Boston Homebrew Competition (BHC).
URL:https://wort.org/event/bhc-last-chance-to-enter-2016/
LOCATION:MA
CATEGORIES:competition
END:VEVENT
BEGIN:VEVENT
DTSTART;TZID=America/New_York:20160427T190000
DTEND;TZID=America/New_York:20160427T210000
DTSTAMP:20260423T132231
CREATED:20160427T160549Z
LAST-MODIFIED:20160427T160549Z
UID:798-1461783600-1461790800@wort.org
SUMMARY:April Meeting
DESCRIPTION:The April 2016 meeting will be held tonight in Somerville at Ian’s place (address sent on the mailing list). The meeting will be focused around sampling the most recent club experiment batch\, where multiple members brewed the same base Irish Extra Stout recipe\, but each brewer varied the roast malt used\, and in some cases added the malt at different times. \nDuring the business portion of the meeting we’ll be soliciting help for multiple BHC-related tasks\, especially judging\, in hopes that after people have a beer or two the power of suggestion is greater. \nAs always\, bring beer!  If you need the address\, get in touch using our contact form.
URL:https://wort.org/event/april-meeting-2016/
LOCATION:Ian’s Place\, Somerville\, MA\, 02143\, United States
CATEGORIES:meeting
END:VEVENT
BEGIN:VEVENT
DTSTART;TZID=America/New_York:20160417T120000
DTEND;TZID=America/New_York:20160417T160000
DTSTAMP:20260423T132231
CREATED:20160414T193114Z
LAST-MODIFIED:20160414T193324Z
UID:789-1460894400-1460908800@wort.org
SUMMARY:Smuttynose Clone Competition
DESCRIPTION:The Smutty Baltic Porter Clone Competition Judging will take place on Sunday\, April 17th (exact time TBD).  We will be hosted by Great North Aleworks.  All who brewed are welcome to join and we encourage all club members to sign up to judge or steward.  If you brewed for the competition but are unable to join for judging day\, you will need to make arrangements for your entries to be transported up to New Hampshire.
URL:https://wort.org/event/smuttynose-clone-competition/
LOCATION:Great North Aleworks\, 1050 Holt Ave #14\, Manchester\, NH\, 03109\, United States
CATEGORIES:competition
END:VEVENT
BEGIN:VEVENT
DTSTART;TZID=America/New_York:20160324T190000
DTEND;TZID=America/New_York:20160324T213000
DTSTAMP:20260423T132231
CREATED:20160324T212834Z
LAST-MODIFIED:20160324T212834Z
UID:768-1458846000-1458855000@wort.org
SUMMARY:March Meeting
DESCRIPTION:Meeting will be held at French Club.  Many thanks to Randy and the folks at Modern Homebrew Emporium for securing the space for this meeting. This meeting is a Brewers Social and Randy has invited members of other Boston Area homebrew clubs to attend\, so please bring your finest homebrew (and a snack if you are so inclined) to share with the group!  If you are able to join us\, please RSVP to the Facebook event page.
URL:https://wort.org/event/march-meeting-2016/
LOCATION:French Club\, 2322 Massachusetts Ave\, Cambridge\, MA\, United States
CATEGORIES:meeting
END:VEVENT
BEGIN:VEVENT
DTSTART;TZID=America/New_York:20160217T190000
DTEND;TZID=America/New_York:20160217T210000
DTSTAMP:20260423T132231
CREATED:20160108T153339Z
LAST-MODIFIED:20160108T153538Z
UID:736-1455735600-1455742800@wort.org
SUMMARY:February Meeting
DESCRIPTION:Meeting will be held at Bang & Olufsen.  No topic has been set for the meeting.  B&O is a short walk from the Back Bay stop on the Orange line and the Copley stop on the Green line.  Meter spaces are available on Newbury and surrounding streets.  There are also several paid lots and garages within a short walk.
URL:https://wort.org/event/february-meeting-2016/
LOCATION:Bang & Olufsen\, 141 Newbury St.\, Boston\, MA\, United States
CATEGORIES:meeting
END:VEVENT
BEGIN:VEVENT
DTSTART;TZID=America/New_York:20160128T190000
DTEND;TZID=America/New_York:20160128T210000
DTSTAMP:20260423T132231
CREATED:20160108T152933Z
LAST-MODIFIED:20160108T152955Z
UID:734-1454007600-1454014800@wort.org
SUMMARY:January Meeting
DESCRIPTION:Meeting will be held at Todd’s place in Somerville.  No topic has been set yet.  Todd’s place is about a mile walk from the Davis Square T stop and a short walk from the Broadway at Belknap Street stop on the 87 and 88 bus lines.  There is a fair amount of meter parking on Broadway for those who wish to drive. \nIf you are a non-member and would like to attend\, please reach out to us via our contact form to get the address.
URL:https://wort.org/event/january-meeting-2016/
LOCATION:Unnamed Venue\, Somerville\, MA\, United States
CATEGORIES:meeting
END:VEVENT
BEGIN:VEVENT
DTSTART;TZID=America/New_York:20160112T190000
DTEND;TZID=America/New_York:20160112T210000
DTSTAMP:20260423T132231
CREATED:20151208T163621Z
LAST-MODIFIED:20151208T163621Z
UID:730-1452625200-1452632400@wort.org
SUMMARY:Steering Committee Meeting
DESCRIPTION:As we look toward the next year\, we would like to invite all members of the club to share feedback on what you like about the club\, what you’re not so fond of\, and what things you would like to see in the future. We will be holding our annual steering committee meeting at Cambridge Brewing Company.  This is a pay-as-you-consume event to discuss activities for the coming year. If you would like to join us\, please RSVP HERE by Monday 1/4 so we can make a reservation. \nRegardless of whether or not you plan to attend the steering committee meeting\, we’d love for everyone in the club to take a few minutes to fill out a survey to provide feedback on the past year.  All responses are anonymous and will be seen only be the officers. We will use these responses to shape the direction of the club moving forward. The survey can\nbe found HERE and we ask everyone to please fill it out no later than Friday 1/8 so there is\ntime to review it prior to the steering committee meeting.
URL:https://wort.org/event/steering-committee-meeting-2015/
LOCATION:Cambridge Brewing Company\, 1 Kendall Sq.\, Cambridge\, MA\, United States
CATEGORIES:meeting
END:VEVENT
BEGIN:VEVENT
DTSTART;TZID=America/New_York:20151218T180000
DTEND;TZID=America/New_York:20151218T210000
DTSTAMP:20260423T132231
CREATED:20151208T161850Z
LAST-MODIFIED:20151208T162623Z
UID:728-1450461600-1450472400@wort.org
SUMMARY:Holiday Party
DESCRIPTION:Join us for our annual holiday potluck and beer Yankee Swap.  Significant others and kids are welcome to join.  We’d love to get a rough head count\, so please sign up HERE.
URL:https://wort.org/event/holiday-party-2015/
LOCATION:Sam Adams Brewery – Pickwick Pub\, 30 Germania St.\, Boston\, MA\, United States
CATEGORIES:meeting,party
ATTACH;FMTTYPE=image/jpeg:https://wort.org/wordpress/wp/wp-content/uploads/2015/12/samadams.jpg
END:VEVENT
END:VCALENDAR