BEGIN:VCALENDAR
VERSION:2.0
PRODID:-//Boston Wort Processors - ECPv6.15.11//NONSGML v1.0//EN
CALSCALE:GREGORIAN
METHOD:PUBLISH
X-WR-CALNAME:Boston Wort Processors
X-ORIGINAL-URL:https://wort.org
X-WR-CALDESC:Events for Boston Wort Processors
REFRESH-INTERVAL;VALUE=DURATION:PT1H
X-Robots-Tag:noindex
X-PUBLISHED-TTL:PT1H
BEGIN:VTIMEZONE
TZID:America/New_York
BEGIN:DAYLIGHT
TZOFFSETFROM:-0500
TZOFFSETTO:-0400
TZNAME:EDT
DTSTART:20130310T070000
END:DAYLIGHT
BEGIN:STANDARD
TZOFFSETFROM:-0400
TZOFFSETTO:-0500
TZNAME:EST
DTSTART:20131103T060000
END:STANDARD
BEGIN:DAYLIGHT
TZOFFSETFROM:-0500
TZOFFSETTO:-0400
TZNAME:EDT
DTSTART:20140309T070000
END:DAYLIGHT
BEGIN:STANDARD
TZOFFSETFROM:-0400
TZOFFSETTO:-0500
TZNAME:EST
DTSTART:20141102T060000
END:STANDARD
BEGIN:DAYLIGHT
TZOFFSETFROM:-0500
TZOFFSETTO:-0400
TZNAME:EDT
DTSTART:20150308T070000
END:DAYLIGHT
BEGIN:STANDARD
TZOFFSETFROM:-0400
TZOFFSETTO:-0500
TZNAME:EST
DTSTART:20151101T060000
END:STANDARD
BEGIN:DAYLIGHT
TZOFFSETFROM:-0500
TZOFFSETTO:-0400
TZNAME:EDT
DTSTART:20160313T070000
END:DAYLIGHT
BEGIN:STANDARD
TZOFFSETFROM:-0400
TZOFFSETTO:-0500
TZNAME:EST
DTSTART:20161106T060000
END:STANDARD
END:VTIMEZONE
BEGIN:VEVENT
DTSTART;TZID=America/New_York:20151119T190000
DTEND;TZID=America/New_York:20151119T210000
DTSTAMP:20260423T182942
CREATED:20151009T202827Z
LAST-MODIFIED:20151020T010500Z
UID:698-1447959600-1447966800@wort.org
SUMMARY:November Meeting
DESCRIPTION:The November meeting will be held at member Ian’s place in Somerville.  We’ll be sampling and discussing the club ESB specialty grain experiment\, so please make every effort to attend this meeting if you brewed for the project. If you are unable to attend the meeting\, please arrange to have someone bring your bottles.  We will also conduct the annual officer elections at this meeting.\n\nIf you are a non-member and would like to attend\, please reach out to us via our contact form to get the address.
URL:https://wort.org/event/november-meeting-2015/
LOCATION:Ian’s\, Somerville\, MA\, 02143\, United States
CATEGORIES:meeting
END:VEVENT
BEGIN:VEVENT
DTSTART;TZID=America/New_York:20151025T120000
DTEND;TZID=America/New_York:20151025T150000
DTSTAMP:20260423T182942
CREATED:20151020T005952Z
LAST-MODIFIED:20151020T010220Z
UID:706-1445774400-1445785200@wort.org
SUMMARY:Ciderfest
DESCRIPTION:This is an annual Worts event and is open to friends and family.  We’ll head up to the farm to hang out and enjoy each other’s company and ciders.  We ask everyone to bring a potluck dish to share\, and please bring any homebrewed or favorite commercial ciders.  While the bulk cider buy is closed\, the event is open to everyone in the club.  Please join us if you can! \nWhile Cider Hill Farm is not convenient to public transportation\, there is AMPLE free parking.  For more information about the farm\, please check out their website.
URL:https://wort.org/event/ciderfest-2015/
LOCATION:Cider Hill Farm\, 45 Fern Ave.\, Amesbury\, MA\, 01913\, United States
CATEGORIES:festival
END:VEVENT
BEGIN:VEVENT
DTSTART;TZID=America/New_York:20151021T190000
DTEND;TZID=America/New_York:20151021T210000
DTSTAMP:20260423T182942
CREATED:20150908T153216Z
LAST-MODIFIED:20150908T153351Z
UID:681-1445454000-1445461200@wort.org
SUMMARY:October Meeting
DESCRIPTION: The October meeting will be held at member BK’s place in Medford.  We’ll be sampling and discussing the Club  Brett Comparison Batch\, so please make every effort to attend this meeting if you brewed for the project. If you are unable to attend the meeting\, please arrange to have someone bring your bottles.  As a reminder\, all brewers should bring a growler or the  bottled equivalent to share with the group\, as well as twelve 12oz bottles to be cellared and brought out every six months for tasting.\n\nIf you are a non-member and would like to attend\, please reach out to us via our contact form.
URL:https://wort.org/event/october-meeting-2015/
LOCATION:Unnamed Venue\, Medford\, MA\, United States
CATEGORIES:meeting
END:VEVENT
BEGIN:VEVENT
DTSTART;TZID=America/New_York:20150915T190000
DTEND;TZID=America/New_York:20150915T210000
DTSTAMP:20260423T182942
CREATED:20150908T150829Z
LAST-MODIFIED:20150915T160609Z
UID:679-1442343600-1442350800@wort.org
SUMMARY:September Meeting
DESCRIPTION:The September meeting will be held at member Brian’s place in Watertown.  In preparation for Ciderfest (date\, time\, and location TBA)\, the theme for the September meeting will be Cider.  Please bring ’em if you brewed ’em.  As always\, commercial cider examples and other styles of homebrew is more than welcome.  If you are a non-member looking to attend\, send us a note through our contact form for the address.
URL:https://wort.org/event/september-meeting-2015/
LOCATION:Unnamed Venue\, Watertown\, MA\, United States
CATEGORIES:meeting
END:VEVENT
BEGIN:VEVENT
DTSTART;TZID=America/New_York:20150822T113000
DTEND;TZID=America/New_York:20150822T200000
DTSTAMP:20260423T182942
CREATED:20150803T150545Z
LAST-MODIFIED:20150803T150657Z
UID:658-1440243000-1440273600@wort.org
SUMMARY:Summer Pub Crawl 2015
DESCRIPTION:Summer pub crawl 2015 is coming up on August 22. Details of the pub crawl given in this link: 2015 crawl \nSchedule at a glance: \n\n11:30 AM-1:00 PM: Cambridge Brewing Co.\n1:15 PM-2:05 PM: Atwood’s Tavern\n2:10 PM-3:00 PM: Lone Star Taco Bar\n3:05 PM-3:55 PM: American Fresh Brewhouse (Slumbrew)\n4:05 PM-4:55 PM: Bantam Cider Co.\n5:05 PM-6:00 PM: Brownwyn\n6:01 PM-?: The Independent
URL:https://wort.org/event/summer-pub-crawl-2015/
END:VEVENT
BEGIN:VEVENT
DTSTART;TZID=America/New_York:20150818T190000
DTEND;TZID=America/New_York:20150818T210000
DTSTAMP:20260423T182942
CREATED:20150720T232921Z
LAST-MODIFIED:20150720T232921Z
UID:649-1439924400-1439931600@wort.org
SUMMARY:August Meeting
DESCRIPTION:Our August meeting is coming up on Tuesday\, August 18 @ 7:00 PM.  Maurice will be hosting us at his place in Somerville.  The topic for the evening will be Berliner Weisse\, so bring ’em if you brewed ’em.  Or venerable Vice President\, Josh Clark\, will be dropping some of his Berliner knowledge and he’ll hopefully have some of his homebrewed examples on hand.  Other homebrew and commercial Berliners are also more than welcome. \nIf you’re not a member\, but are interested in checking out the club\, send an email through the Contact Form for the meeting address.
URL:https://wort.org/event/august-meeting-2015/
LOCATION:Unnamed Venue\, Somerville\, MA\, 02144\, United States
CATEGORIES:meeting
END:VEVENT
BEGIN:VEVENT
DTSTART;TZID=America/New_York:20150715T190000
DTEND;TZID=America/New_York:20150715T210000
DTSTAMP:20260423T182942
CREATED:20150708T175546Z
LAST-MODIFIED:20150708T175546Z
UID:643-1436986800-1436994000@wort.org
SUMMARY:July Meeting
DESCRIPTION:The theme of the July meeting is Saisons.  We’ll be meeting at Mystic to get the inside scoop on how they do Saisons.  If you’ve got homebrew\, bring it\, especially if you’ve got Saisons.
URL:https://wort.org/event/july-meeting-2015/
LOCATION:Mystic Brewery\, 174 Williams St.\, Chelsea\, MA\, United States
CATEGORIES:meeting
ATTACH;FMTTYPE=image/png:https://wort.org/wordpress/wp/wp-content/uploads/2015/07/mystic_logo.png
END:VEVENT
BEGIN:VEVENT
DTSTART;TZID=America/New_York:20150627T050000
DTEND;TZID=America/New_York:20150627T220000
DTSTAMP:20260423T182942
CREATED:20150615T181015Z
LAST-MODIFIED:20150615T181015Z
UID:619-1435381200-1435442400@wort.org
SUMMARY:Pignic
DESCRIPTION:The tradition continues! Mike Graney has generously offered to host and roast for our annual Pig Roast. The party begins at 5:00 PM and the pig will be ready around 8:00 PM. Please bring homebrew and a dish to share (sides/desserts/salads/etc.). We’ll have the club jockey boxes\, so please let us know if you have a keg to kick! Mike is located in Somerville.  Kids/spouses/significant others welcome. \nTo get a rough head count and to make sure we don’t have 12 potato salads show up\, please RSVP HERE if you’re coming and let us know what you plan to bring!
URL:https://wort.org/event/pignic-2015/
CATEGORIES:party
ATTACH;FMTTYPE=image/jpeg:https://wort.org/wordpress/wp/wp-content/uploads/2014/06/pignic.jpg
END:VEVENT
BEGIN:VEVENT
DTSTART;TZID=America/New_York:20150620T110000
DTEND;TZID=America/New_York:20150620T180000
DTSTAMP:20260423T182942
CREATED:20150327T141608Z
LAST-MODIFIED:20150327T142046Z
UID:557-1434798000-1434823200@wort.org
SUMMARY:Beans & Brews 2015
DESCRIPTION:The North Shore Brewers are helping coordinate a homebrew festival to benefit All Are Welcome Community Kitchen and Bakery\, a 503(c) charitable organization\, dedicated to providing access to nutritious meals to all by encouraging those who are able to assist in the support of others. \nHomebrew clubs and individual homebrewers are invited to come and share their brews with each other and the general public. \nThere will be prizes for People’s Choice Best Brew and Best Club.  All participating brewers will receive voting tokens for both the homebrew competition and the chili cookoff\, and a free lunch.  So come out and enjoy a day of good food\, music\, and great homebrew!  There is also camping available for festival participants at discounted rates. \nView Flyer or FAQ.
URL:https://wort.org/event/beans-brews-2015/
LOCATION:Boston-Cape Cod KOA Campground\, 438 Plymouth Street\, Middleborough\, MA\, United States
CATEGORIES:competition,festival
ORGANIZER;CN="Karen Cook":MAILTO:beansnbrews2015@gmail.com
END:VEVENT
BEGIN:VEVENT
DTSTART;TZID=America/New_York:20150617T190000
DTEND;TZID=America/New_York:20150617T210000
DTSTAMP:20260423T182942
CREATED:20150615T180237Z
LAST-MODIFIED:20150615T180237Z
UID:618-1434567600-1434574800@wort.org
SUMMARY:June Meeting
DESCRIPTION:He’s not sick of us yet! John Tyler will be hosting us at his truly fantastic Eastie abode\, located in East Boston. If you haven’t been to John’s place\, it is right around the corner from the Maverick stop on the Blue Line and there is ample free street parking. \nWe’re keeping things simple for this meeting. The theme is “Homebrew\,” so bring ’em if you brewed ’em!
URL:https://wort.org/event/june-meeting-2015/
CATEGORIES:meeting
END:VEVENT
BEGIN:VEVENT
DTSTART;TZID=America/New_York:20150513T190000
DTEND;TZID=America/New_York:20150513T220000
DTSTAMP:20260423T182942
CREATED:20150413T144802Z
LAST-MODIFIED:20150615T175838Z
UID:595-1431543600-1431554400@wort.org
SUMMARY:May Meeting
DESCRIPTION:For the May meeting\, we will be at BK’s in Medford. We will be sampling all of the results from the club IPA experiment (>20 single hop IPAs!)
URL:https://wort.org/event/may-meeting/
CATEGORIES:meeting
END:VEVENT
BEGIN:VEVENT
DTSTART;TZID=America/New_York:20150507T190000
DTEND;TZID=America/New_York:20150507T200000
DTSTAMP:20260423T182942
CREATED:20150217T164858Z
LAST-MODIFIED:20150507T022151Z
UID:450-1431025200-1431028800@wort.org
SUMMARY:Meet John Palmer
DESCRIPTION:The Worts in conjunction with Night Shift Brewing will be hosting the author of How To Brew and Water\, John Palmer\, for a presentation on brewing water. John will be available to sign books and a social hour will follow.
URL:https://wort.org/event/meet-john-palmer/
LOCATION:Night Shift Brewing\, 87 Santilli Hwy\, Everett\, MA\, 02149\, United States
CATEGORIES:presentation
END:VEVENT
BEGIN:VEVENT
DTSTART;VALUE=DATE:20150502
DTEND;VALUE=DATE:20150503
DTSTAMP:20260423T182942
CREATED:20150115T053343Z
LAST-MODIFIED:20150217T165935Z
UID:345-1430524800-1430611199@wort.org
SUMMARY:Boston Homebrew Competition
DESCRIPTION:Welcome back for another year! It is with great pleasure that The Boston Wort Processors present the 20th Annual Boston Homebrew Competition.  This is a BJCP Registered/Sanctioned event and we will be judging all 28 BJCP 2008 Styles for this competition! \nRegistration for judges and stewards is now open. \nGeneral entry registration will open Friday\, March 13\, 2015.
URL:https://wort.org/event/boston-homebrew-competition-2015/
LOCATION:Holland and Knight\, 10 St. James Ave.\, 11th Floor\, Boston\, MA\, United States
CATEGORIES:competition
END:VEVENT
BEGIN:VEVENT
DTSTART;TZID=America/New_York:20150422T190000
DTEND;TZID=America/New_York:20150422T210000
DTSTAMP:20260423T182942
CREATED:20150217T164133Z
LAST-MODIFIED:20150217T165625Z
UID:449-1429729200-1429736400@wort.org
SUMMARY:April Meeting
DESCRIPTION:For the April meeting\, we’ll be hosted by our own Chris Tkach of Idle Hands Craft Ales.  Chris will regale us with stories of going from homebrewer to pro-brewer and the brewing process for Idle Hands and hopefully Enlightenment.
URL:https://wort.org/event/april-meeting-2015/
LOCATION:Idle Hands Craft Ales\, 3 Charlton St #4\, Everett\, MA\, 02149\, United States
CATEGORIES:meeting,presentation
END:VEVENT
BEGIN:VEVENT
DTSTART;TZID=America/New_York:20150416T190000
DTEND;TZID=America/New_York:20150416T220000
DTSTAMP:20260423T182942
CREATED:20150401T205436Z
LAST-MODIFIED:20150401T205436Z
UID:590-1429210800-1429221600@wort.org
SUMMARY:BJCP Mini-Comp #5
DESCRIPTION:The fifth and final mini-competition of the 2014-2015 season of BJCP study group will be held April 16\, 2015. The competition will tentatively cover Category 1 (Light Lager)\, Category 8 (English Pale Ale)\, Category 14 (India Pale Ale)\, and Category 19 (Strong Ale). If you are interested in competing\, please contact Mark Keck to arrange dropping off entries. Entry is free (but limited to members of the club or BJCP study group). Entries must be received no later than Tuesday\, April 14\, 2015.
URL:https://wort.org/event/bjcp-mini-comp-5/
END:VEVENT
BEGIN:VEVENT
DTSTART;TZID=America/New_York:20150324T190000
DTEND;TZID=America/New_York:20150324T210000
DTSTAMP:20260423T182942
CREATED:20150219T175243Z
LAST-MODIFIED:20150304T193111Z
UID:473-1427223600-1427230800@wort.org
SUMMARY:March Meeting
DESCRIPTION:Monthly meeting @ John Tyler’s in East Boston. More details to come. Bring homebrew!
URL:https://wort.org/event/march-meeting-2015/
CATEGORIES:meeting
END:VEVENT
BEGIN:VEVENT
DTSTART;TZID=America/New_York:20150312T190000
DTEND;TZID=America/New_York:20150312T210000
DTSTAMP:20260423T182942
CREATED:20150217T171511Z
LAST-MODIFIED:20150223T140516Z
UID:459-1426186800-1426194000@wort.org
SUMMARY:BJCP Mini-Comp #4
DESCRIPTION:The fourth mini-competition of the 2014-2015 season of BJCP study group will be held March 12\, 2015.  The competition will tentatively cover Category 3 (European Amber Lager)\, Category 5 (Bock)\, Category 6 (Light Hybrid Beer)\, Category 15 (German Wheat and Rye Beer)\, and Category 18 (Belgian Strong Ale). If you are interested in competing\, please contact Mark Keck. Entry is free (but limited to members of the club or BJCP study group).  Entries must be received no later than Tuesday\, March 10\, 2015.
URL:https://wort.org/event/bjcp-mini-comp-4/
CATEGORIES:competition
END:VEVENT
BEGIN:VEVENT
DTSTART;TZID=America/New_York:20150222T113000
DTEND;TZID=America/New_York:20150222T150000
DTSTAMP:20260423T182942
CREATED:20150216T145045Z
LAST-MODIFIED:20150216T145053Z
UID:445-1424604600-1424617200@wort.org
SUMMARY:Clone Brew-Off with BFD
DESCRIPTION:We’ve entered into a bit of a friendly competition with BFD\, our neighbors to the north.  Entries will be judged according to their ability to match the characteristics of Sierra Nevada Celebration Ale\, not according to BJCP style guidelines. Entries will go into a blind judging session and the club with the best clone will win both bragging rights and fabulous prizes!  First\, Second\, and Third place will be awarded to individual brewers.
URL:https://wort.org/event/clone-brew-off-with-bfd-2/
LOCATION:Mystic Brewery\, 174 Williams St.\, Chelsea\, MA\, United States
CATEGORIES:competition
END:VEVENT
BEGIN:VEVENT
DTSTART;TZID=America/New_York:20150218T190000
DTEND;TZID=America/New_York:20150218T210000
DTSTAMP:20260423T182942
CREATED:20150115T051659Z
LAST-MODIFIED:20150218T135934Z
UID:342-1424286000-1424293200@wort.org
SUMMARY:February Meeting
DESCRIPTION:We’ll be hosting a club competition with some truly fabulous prizes from Bang & Olufsen for the winner.  The theme for the competition is Dark Beers (SRM of 25+)\, so get brewing and get creative.  We’ll determine the winner by popular vote\, so feel free to bend or ignore BJCP style guidelines.  To make sure we have enough judging supplies\, please sign up HERE if you’d like to enter the competition. We are setting a limit of one entry per person\, so bring your best! \nTonight’s education track will have Mark and DT leading a Q&A on dark beer recipe formulation.
URL:https://wort.org/event/february-meeting/
LOCATION:Bang & Olufsen\, 141 Newbury St.\, Boston\, MA\, United States
CATEGORIES:competition,meeting
END:VEVENT
BEGIN:VEVENT
DTSTART;TZID=America/New_York:20150208T120000
DTEND;TZID=America/New_York:20150208T150000
DTSTAMP:20260423T182942
CREATED:20150115T054352Z
LAST-MODIFIED:20150208T143731Z
UID:347-1423396800-1423407600@wort.org
SUMMARY:POST-PONED: Clone Brew-Off with BFD
DESCRIPTION:Due to weather\, event is post-poned until further notice \nWe’ve entered into a bit of a friendly competition with BFD\, our neighbors to the north.  Entries will be judged according to their ability to match the characteristics of Sierra Nevada Celebration Ale\, not according to BJCP style guidelines. Entries will go into a blind judging session and the club with the best clone will win both bragging rights and fabulous prizes!  First\, Second\, and Third place will be awarded to individual brewers.
URL:https://wort.org/event/clone-brew-off-with-bfd/
LOCATION:Mystic Brewery\, 174 Williams St.\, Chelsea\, MA\, United States
CATEGORIES:competition
END:VEVENT
BEGIN:VEVENT
DTSTART;TZID=America/New_York:20150207T170000
DTEND;TZID=America/New_York:20150207T230000
DTSTAMP:20260423T182942
CREATED:20150217T170317Z
LAST-MODIFIED:20150217T170317Z
UID:454-1423328400-1423350000@wort.org
SUMMARY:Slither
DESCRIPTION:For those unfamiliar\, the Slither is the Wort’s annual “Black Tie Pub Crawl”. This is where people get dressed up and head out in the frigid weather to some of the fancier drinking spots in town. \nThis year’s theme is “Grapes around the Common” and is being held on International Pisco Sour Day… being the first Saturday in February. For the early birds we start out at Troquet on Boston Common for some wine samplers (yes\, they do 4oz pours!). After that we head to No. 9 Park for pisco and appetizers (just a stones throw from the Park St T stop). From there we head to Mooo for grappa and protein if needed. Finally\, for those sick of grape drinks the last stop is the Tip Tap room for beer! \nSchedule:\n5:00pm Troquet – http://troquetboston.com/\n6:30pm No.9 Park – http://no9park.com/about/\n8:00ish Mooo… – http://mooorestaurant.com/about/\n9:30ish Tip Tap Room – http://thetiptaproom.com/
URL:https://wort.org/event/slither-2015/
LOCATION:Troquet\, 140 Boylston St\, Boston\, MA\, 02116\, United States
END:VEVENT
BEGIN:VEVENT
DTSTART;TZID=America/New_York:20150120T190000
DTEND;TZID=America/New_York:20150120T210000
DTSTAMP:20260423T182942
CREATED:20150115T050937Z
LAST-MODIFIED:20150304T234602Z
UID:340-1421780400-1421787600@wort.org
SUMMARY:January Meeting
DESCRIPTION:At the January meeting\, we’ll be judging this year’s Iron Brewer competition beers\, so bring ’em if you brewed ’em.  Didn’t compete in Iron Brewer?  Bring a favorite homebrew (or two) to share with the club.  We’ll also hold a 15 – 20 minute info session for the Boston Homebrew Competition (May 2\, 2015).  Finally\, we’ll do a quick recap of the 2014 feedback and Steering Committee meeting.
URL:https://wort.org/event/january-meeting/
LOCATION:Unnamed Venue\, East Boston
CATEGORIES:meeting
END:VEVENT
BEGIN:VEVENT
DTSTART;TZID=America/New_York:20150113T190000
DTEND;TZID=America/New_York:20150113T210000
DTSTAMP:20260423T182942
CREATED:20150115T050208Z
LAST-MODIFIED:20150115T050208Z
UID:338-1421175600-1421182800@wort.org
SUMMARY:Steering Committee Meeting
DESCRIPTION:This is your chance to let your voice be heard and help the us determine the club’s direction for the coming year. All ideas are welcome and all club members are welcome to attend the meeting. We’ll make a reservation at CBC to secure a large table\, so if you’d like to attend\, please RSVP HERE. For those unable to attend\, we’ll be sending out a survey prior to the meeting so everyone has an anonymous opportunity to provide feedback.
URL:https://wort.org/event/steering-committee-meeting/
LOCATION:Cambridge Brewing Company\, 1 Kendall Sq.\, Cambridge\, MA\, United States
CATEGORIES:meeting
END:VEVENT
BEGIN:VEVENT
DTSTART;TZID=America/New_York:20141205T180000
DTEND;TZID=America/New_York:20141205T210000
DTSTAMP:20260423T182942
CREATED:20150115T045353Z
LAST-MODIFIED:20150115T045353Z
UID:336-1417802400-1417813200@wort.org
SUMMARY:Holiday Party
DESCRIPTION:Join us for our annual holiday potluck and beer Yankee Swap.  Significant others and kids are welcome to join.  We’d love to get a rough head count\, so please sign up HERE.
URL:https://wort.org/event/holiday-party/
LOCATION:Sam Adams Brewery – Pickwick Pub\, 30 Germania St.\, Boston\, MA\, United States
CATEGORIES:meeting,party
END:VEVENT
BEGIN:VEVENT
DTSTART;TZID=America/New_York:20141112T190000
DTEND;TZID=America/New_York:20141112T210000
DTSTAMP:20260423T182942
CREATED:20140917T195343Z
LAST-MODIFIED:20150304T234643Z
UID:249-1415818800-1415826000@wort.org
SUMMARY:November Meeting 2014
DESCRIPTION:We’re holding our November meeting at Robert’s place in Somerville.  The address will be sent to all active members.  If you are interested in becoming a member and would like to check out a meeting\, please contact us for the address. \nPlease bring snacks and\, as always\, bring beer!
URL:https://wort.org/event/november-meeting2014/
LOCATION:Unnamed Venue\, Somerville
CATEGORIES:meeting
END:VEVENT
BEGIN:VEVENT
DTSTART;VALUE=DATE:20141026
DTEND;VALUE=DATE:20141027
DTSTAMP:20260423T182942
CREATED:20140906T164009Z
LAST-MODIFIED:20140906T164009Z
UID:227-1414281600-1414367999@wort.org
SUMMARY:CiderFest 2014
DESCRIPTION:We’ll be returning to Cider Hill in Amesbury for our annual CiderFest and bulk cider buy.  We’re still finalizing details and hope to send out additional information along with a link to purchase the cider shortly.  
URL:https://wort.org/event/ciderfest-2014/
LOCATION:Cider Hill\, 45 Fern Ave\, Amesbury\, MA\, 01913\, United States
CATEGORIES:festival
END:VEVENT
BEGIN:VEVENT
DTSTART;TZID=America/New_York:20141023T190000
DTEND;TZID=America/New_York:20141023T210000
DTSTAMP:20260423T182942
CREATED:20140906T163559Z
LAST-MODIFIED:20150304T234746Z
UID:225-1414090800-1414098000@wort.org
SUMMARY:October Meeting 2014
DESCRIPTION:Our October meeting will be at 7p on Thursday 10/23 at John’s place in East Boston.  The address will be sent to all active members.  If you are interested in becoming a member and would like to check out a meeting\, please contact us for the address. \nWe’ll be tasting the club Marzen experiment\, so bring ’em if you brewed ’em.  If you didn’t brew\, please bring your favorite Oktoberfest/Fall homebrew. Snacks are also always appreciated.  \n  \n 
URL:https://wort.org/event/october-meeting2014/
LOCATION:Unnamed Venue\, East Boston\, MA\, United States
CATEGORIES:meeting
END:VEVENT
BEGIN:VEVENT
DTSTART;TZID=America/New_York:20141012T090000
DTEND;TZID=America/New_York:20141012T170000
DTSTAMP:20260423T182942
CREATED:20140626T183153Z
LAST-MODIFIED:20140906T162701Z
UID:176-1413104400-1413133200@wort.org
SUMMARY:Iron Brewer 2014
DESCRIPTION:This year’s competition will be held at 9a on Saturday 10/12 at Josh’s place in West Roxbury (address will be sent to active members).\n\nIron Brewer is our annual Iron Chef-esque competition. Everyone pairs up into teams (usually 2 brewers per team).  You arrive with your brewing equipment and\, once everyone is gathered\, we reveal the secret ingredient.  The club provides all ingredients (a few base malts\, some specialty malts\, hops\, water\, yeast\, and the secret ingredient) and you have an hour to create a recipe that showcases the secret ingredient.  Once you settle on your recipe\, it’s time to brew!  Past secret ingredients include dried fruit\, Brettanomyces. and wood.  Basically\, you get to play around with ingredients and walk away with free beer.  Once everyone’s beer has fermented\, we judge the beers at our monthly meeting (probably in November) and determine who’s beer showcases the secret ingredient the best.\n\nIron Brewer is an all-grain competition\, but not to worry if you are not an all grain brewer.  This is a great opportunity to learn!  We’ll make sure you are paired with an experienced all-grain brewer and we’ll have plenty of people around to answer questions.  While I think everyone should compete\, Iron Brewer can also be a fun spectator event.  We’ll fire up the grill and have a homebrew or two during the day.\n\nALLEZ BREWING!\n 
URL:https://wort.org/event/iron-brewer-2014/
LOCATION:Josh’s Place\, West Roxbury
CATEGORIES:competition
END:VEVENT
BEGIN:VEVENT
DTSTART;TZID=America/New_York:20140924T190000
DTEND;TZID=America/New_York:20140924T210000
DTSTAMP:20260423T182942
CREATED:20140906T163057Z
LAST-MODIFIED:20150304T234848Z
UID:223-1411585200-1411592400@wort.org
SUMMARY:September Meeting 2014
DESCRIPTION:Our September meeting will be on Wednesday 9/24 at 7p.  We’ll  be meeting at Bev’s place in Watertown.  The address will be sent to all active members.  If you are interested in becoming a member and would like to check out a meeting\, please contact us for the address. \nPlease bring snacks and\, as always\, bring beer!
URL:https://wort.org/event/september-meeting2014/
LOCATION:Unnamed Venue\, Watertown
CATEGORIES:meeting
END:VEVENT
BEGIN:VEVENT
DTSTART;TZID=America/New_York:20140804T190000
DTEND;TZID=America/New_York:20140804T220000
DTSTAMP:20260423T182942
CREATED:20140730T130729Z
LAST-MODIFIED:20150304T234915Z
UID:187-1407178800-1407189600@wort.org
SUMMARY:August Meeting
DESCRIPTION:Our August meeting will be next Monday (8/4) at 7p at BK’s place.   \nIt’s about a 15 minute walk from the Davis Square T stop and there is some limited streetparking.   \nPlease bring snacks and\, as always\, bring beer!
URL:https://wort.org/event/august-meeting/
LOCATION:Unnamed Venue\, Medford
CATEGORIES:meeting
END:VEVENT
END:VCALENDAR